Workbook

Sheet Basic Information
A1: Raw Data
A5: Sales Information:
B6: Estimated % drop: | C6: 0.2 | E6: Estimated Growth: | F6: 0.05 | I6: Estimated Holiday Increase: | J6: 0.15
A8: Sales: | C8: Muffins | D8: Cookies | E8: Bread | G8: Sales Numbers Trasposed for Copying
B10: Year 1
B11: Q4 | C11: 45000 | D11: 65000 | E11: 85000 | G11: =C8 -> Muffins
G12: 2007 | L12: 2008
B13: Year 2 | G13: Q1 | H13: Q2 | I13: Q3 | J13: Q4 | L13: Q1 | M13: Q2
B14: Q1 | C14: =C11*(1-$C$6) -> 36000 | D14: =D11*(1-$C$6) -> 52000 | E14: =E11*(1-$C$6) -> 68000 | G14: =C14 -> 36000 | H14: =C15 -> 37800 | I14: =C16 -> 39690 | J14: =C17 -> 47628 | L14: =C19 -> 43758.225 | M14: =C20 -> 45946.136
B15: Q2 | C15: =C14*(1+$F$6) -> 37800 | D15: =D14*(1+$F$6) -> 54600 | E15: =E14*(1+$F$6) -> 71400 | G15: =D8 -> Cookies
B16: Q3 | C16: =C15*(1+$F$6) -> 39690 | D16: =D15*(1+$F$6) -> 57330 | E16: =E15*(1+$F$6) -> 74970 | G16: 2007 | L16: 2008
B17: Q4 | C17: =C16*(1+($F$6+$J$6)) -> 47628 | D17: =D16*(1+($F$6+$J$6)) -> 68796 | E17: =E16*(1+($F$6+$J$6)) -> 89964 | G17: Q1 | H17: Q2 | I17: Q3 | J17: Q4 | L17: Q1 | M17: Q2
B18: Year 3 | G18: =D14 -> 52000 | H18: =D15 -> 54600 | I18: =D16 -> 57330 | J18: =D17 -> 68796 | L18: =D19 -> 63206.325 | M18: =D20 -> 66366.641
B19: Q1 | C19: =C16*(1+$F$6)*(1+$F$6) -> 43758.225 | D19: =D16*(1+$F$6)*(1+$F$6) -> 63206.325 | E19: =E16*(1+$F$6)*(1+$F$6) -> 82654.425 | G19: =E8 -> Bread
B20: Q2 | C20: =C19*(1+$F$6) -> 45946.136 | D20: =D19*(1+$F$6) -> 66366.641 | E20: =E19*(1+$F$6) -> 86787.146 | G20: 2007 | L20: 2008
G21: Q1 | H21: Q2 | I21: Q3 | J21: Q4 | L21: Q1 | M21: Q2
A22: Sales Price/Item: | C22: 6 | D22: 5.25 | E22: 5.75 | G22: =E14 -> 68000 | H22: =E15 -> 71400 | I22: =E16 -> 74970 | J22: =E17 -> 89964 | L22: =E19 -> 82654.425 | M22: =E20 -> 86787.146
A25: Collection Information:
A26: Credit Policy: | D26: Prior Year | E26: Current Year
B27: Cash Sales | D27: 0.1 | E27: 0.1 | F27: Collection Schedule Transposed for Copying
B28: Credit Sales | D28: 0.9 | E28: =1-E27 -> 0.9 | F28: Q1 | G28: Q2 | H28: Q3
B29: Collection in Current Quarter | D29: 0.3 | E29: =D29 -> 0.3 | F29: 0.3 | G29: 0.45 | H29: 0.25
B30: Collection in Following Quarter | D30: 0.45 | E30: =D30 -> 0.45
B31: Collection in 3rd Quarter | D31: 0.25 | E31: =D31 -> 0.25
A33: Collections from Year 1 Sales:
E34: Payments in Current Year
B35: Quarter | C35: Sold | D35: Received | E35: =G17 -> Q1 | F35: =H17 -> Q2 | G35: =I17 -> Q3 | H35: =J17 -> Q4
B36: Q3 | C36: 970200 | D36: =10/100*C36 -> 97020 | E36: 261954 | F36: 392931 | G36: 218295 | H36: 0
B37: Q4 | C37: 1164240 | D37: =10/100*C37 -> 116424 | E37: 314344.8 | F37: 471517.2 | G37: 261954 | H37: 0
D38: =SUM(D36:D37) -> 213444 | E38: =SUM(E36:E37) -> 576298.8 | F38: =SUM(F36:F37) -> 864448.2 | G38: =SUM(G36:G37) -> 480249 | H38: =SUM(H36:H37) -> 0
A41: Manufacturing Information:
C42: Ending Inventory Goal: | D42: =2/90 -> 0.022222222
C43: Raw Materials Goal: | D43: 0.15
A46: Raw Materials:
A48: Muffins | C48: Units | D48: Cost per | E48: Total
A49: Materials: | C49: Needed | D49: Unit | E49: Cost
B50: Flour | C50: 0.5 | D50: 0.15 | E50: =C50*D50 -> 0.075
B51: Margarine | C51: 0.25 | D51: 0.25 | E51: =C51*D51 -> 0.0625
B52: Sugar | C52: 0.5 | D52: 0.2 | E52: =C52*D52 -> 0.1
B53: Eggs | C53: 2 | D53: 0.05 | E53: =C53*D53 -> 0.1
...

Sheet Sales Budget
A1: Table 1 - Sales Budget
D3: Quarter | H3: Total | J3: Year 3
D4: Q1 | E4: Q2 | F4: Q3 | G4: Q4 | H4: Year 2 | J4: Q1 | K4: Q2
A5: ='Basic Information'!C8 -> Muffins
B6: Budgeted Sales | D6: ='Basic Information'!G14 -> 36000 | E6: ='Basic Information'!H14 -> 37800 | F6: ='Basic Information'!I14 -> 39690 | G6: ='Basic Information'!J14 -> 47628 | H6: =SUM(D6:G6) -> 161118 | J6: ='Basic Information'!L14 -> 43758.225 | K6: ='Basic Information'!M14 -> 45946.136
B7: Selling price per dozen | D7: ='Basic Information'!$C$22 -> 6 | E7: ='Basic Information'!$C$22 -> 6 | F7: ='Basic Information'!$C$22 -> 6 | G7: ='Basic Information'!$C$22 -> 6 | H7: =G7 -> 6 | J7: ='Basic Information'!$C$22 -> 6 | K7: ='Basic Information'!$C$22 -> 6
C8: Total Sales Revenue from Muffins | D8: =D6*D7 -> 216000 | E8: =E6*E7 -> 226800 | F8: =F6*F7 -> 238140 | G8: =G6*G7 -> 285768 | H8: =SUM(D8:G8) -> 966708 | J8: =J6*J7 -> 262549.35 | K8: =K6*K7 -> 275676.82
A10: ='Basic Information'!D8 -> Cookies
B11: Budgeted Sales | D11: ='Basic Information'!G18 -> 52000 | E11: ='Basic Information'!H18 -> 54600 | F11: ='Basic Information'!I18 -> 57330 | G11: ='Basic Information'!J18 -> 68796 | H11: =SUM(D11:G11) -> 232726 | J11: ='Basic Information'!L18 -> 63206.325 | K11: ='Basic Information'!M18 -> 66366.641
B12: Selling price per dozen | D12: ='Basic Information'!$D$22 -> 5.25 | E12: ='Basic Information'!$D$22 -> 5.25 | F12: ='Basic Information'!$D$22 -> 5.25 | G12: ='Basic Information'!$D$22 -> 5.25 | H12: ='Basic Information'!$D$22 -> 5.25 | J12: ='Basic Information'!$D$22 -> 5.25 | K12: ='Basic Information'!$D$22 -> 5.25
C13: Total Sales Revenue for Cookies | D13: =D11*D12 -> 273000 | E13: =E11*E12 -> 286650 | F13: =F11*F12 -> 300982.5 | G13: =G11*G12 -> 361179 | H13: =SUM(D13:G13) -> 1221811.5 | J13: =J11*J12 -> 331833.21 | K13: =K11*K12 -> 348424.87
A15: ='Basic Information'!E8 -> Bread
B16: Budgeted Sales | D16: ='Basic Information'!G22 -> 68000 | E16: ='Basic Information'!H22 -> 71400 | F16: ='Basic Information'!I22 -> 74970 | G16: ='Basic Information'!J22 -> 89964 | H16: =SUM(D16:G16) -> 304334 | J16: ='Basic Information'!L22 -> 82654.425 | K16: ='Basic Information'!M22 -> 86787.146
B17: Selling price per loaf | D17: ='Basic Information'!$E$22 -> 5.75 | E17: ='Basic Information'!$E$22 -> 5.75 | F17: ='Basic Information'!$E$22 -> 5.75 | G17: ='Basic Information'!$E$22 -> 5.75 | H17: ='Basic Information'!$E$22 -> 5.75 | J17: ='Basic Information'!$E$22 -> 5.75 | K17: ='Basic Information'!$E$22 -> 5.75
C18: Total Sales Revenue for Bread | D18: =D16*D17 -> 391000 | E18: =E16*E17 -> 410550 | F18: =F16*F17 -> 431077.5 | G18: =G16*G17 -> 517293 | H18: =SUM(D18:G18) -> 1749920.5 | J18: =J16*J17 -> 475262.94 | K18: =K16*K17 -> 499026.09
A20: Total Sales Revenue | D20: =D8+D13+D18 -> 880000 | E20: =E8+E13+E18 -> 924000 | F20: =F8+F13+F18 -> 970200 | G20: =G8+G13+G18 -> 1164240 | H20: =H8+H13+H18 -> 3938440 | J20: =J8+J13+J18 -> 1069645.5 | K20: =K8+K13+K18 -> 1123127.8
A23: Table 2 - Schedule of Cash Collections
D24: Quarter | H24: Year
D25: Q1 | E25: Q2 | F25: Q3 | G25: Q4 | H25: 2
A26: Collections from 2006 | D26: ='Basic Information'!E38 -> 576298.8 | E26: ='Basic Information'!F38 -> 864448.2 | F26: ='Basic Information'!G38 -> 480249 | G26: ='Basic Information'!H38 -> 0 | H26: =SUM(D26:G26) -> 1920996
A27: Q1 | D27: =$D$20*'Basic Information'!F29 -> 264000 | E27: =$D$20*'Basic Information'!G29 -> 396000 | F27: =$D$20*'Basic Information'!H29 -> 220000 | G27: 0 | H27: =SUM(D27:G27) -> 880000
A28: Q2 | D28: 0 | E28: =$E$20*'Basic Information'!F29 -> 277200 | F28: =$E$20*'Basic Information'!G29 -> 415800 | G28: =$E$20*'Basic Information'!H29 -> 231000 | H28: =SUM(E28:G28) -> 924000
A29: Q3 | D29: 0 | E29: 0 | F29: =$F$20*'Basic Information'!F29 -> 291060 | G29: =$F$20*'Basic Information'!G29 -> 436590 | H29: =SUM(D29:G29) -> 727650
A30: Q4 | D30: 0 | E30: 0 | F30: 0 | G30: =$G$20*'Basic Information'!F29 -> 349272 | H30: =SUM(D30:G30) -> 349272
C31: Total Cash Collections | D31: =SUM(D26:D30) -> 840298.8 | E31: =SUM(E26:E30) -> 1537648.2 | F31: =SUM(F26:F30) -> 1407109 | G31: =SUM(G26:G30) -> 1016862 | H31: =SUM(H26:H30) -> 4801918

Sheet Production Budget
A1: Table 3 - Production Budget
D3: Quarter | H3: Total | J3: Year 3
D4: Q1 | E4: Q2 | F4: Q3 | G4: Q4 | H4: Year 2 | J4: Q1
A5: ='Sales Budget'!A5 -> Muffins
B6: Budgeted Sales | D6: ='Sales Budget'!D6 -> 36000 | E6: ='Sales Budget'!E6 -> 37800 | F6: ='Sales Budget'!F6 -> 39690 | G6: ='Sales Budget'!G6 -> 47628 | H6: ='Sales Budget'!H6 -> 161118 | J6: ='Sales Budget'!J6 -> 43758.225 | K6: ='Sales Budget'!K6 -> 45946.136
B7: Desired Ending Inventory | D7: ='Basic Information'!$D$42*'Production Budget'!E6 -> 840 | E7: ='Basic Information'!$D$42*'Production Budget'!F6 -> 882 | F7: ='Basic Information'!$D$42*'Production Budget'!G6 -> 1058.4 | G7: ='Basic Information'!$D$42*J6 -> 972.405 | H7: =G7 -> 972.405 | J7: ='Basic Information'!$D$42*'Production Budget'!K6 -> 1021.0253
C8: Total Units Needed | D8: =SUM(D6:D7) -> 36840 | E8: =SUM(E6:E7) -> 38682 | F8: =SUM(F6:F7) -> 40748.4 | G8: =SUM(G6:G7) -> 48600.405 | H8: =SUM(H6:H7) -> 162090.4 | J8: =SUM(J6:J7) -> 44779.25
B9: Less: Beginning Inventory | D9: =D6*-'Basic Information'!$D$42 -> -800 | E9: =-D7 -> -840 | F9: =-E7 -> -882 | G9: =-F7 -> -1058.4 | H9: =D9 -> -800 | J9: =-H7 -> -972.405
C10: Required Muffin Production | D10: =+D8+D9 -> 36040 | E10: =+E8+E9 -> 37842 | F10: =+F8+F9 -> 39866.4 | G10: =+G8+G9 -> 47542.005 | H10: =+H8+H9 -> 161290.4 | J10: =+J8+J9 -> 43806.845
A12: ='Sales Budget'!A10 -> Cookies
B13: Budgeted Sales | D13: ='Sales Budget'!D11 -> 52000 | E13: ='Sales Budget'!E11 -> 54600 | F13: ='Sales Budget'!F11 -> 57330 | G13: ='Sales Budget'!G11 -> 68796 | H13: =SUM(D13:G13) -> 232726 | J13: ='Sales Budget'!J11 -> 63206.325 | K13: ='Sales Budget'!K11 -> 66366.641
B14: Desired Ending Inventory | D14: ='Basic Information'!$D$42*'Production Budget'!E13 -> 1213.3333 | E14: ='Basic Information'!$D$42*'Production Budget'!F13 -> 1274 | F14: ='Basic Information'!$D$42*'Production Budget'!G13 -> 1528.8 | G14: ='Basic Information'!$D$42*J13 -> 1404.585 | H14: =G14 -> 1404.585 | J14: ='Basic Information'!$D$42*'Production Budget'!K13 -> 1474.8143
C15: Total Units Needed | D15: =SUM(D13:D14) -> 53213.333 | E15: =SUM(E13:E14) -> 55874 | F15: =SUM(F13:F14) -> 58858.8 | G15: =SUM(G13:G14) -> 70200.585 | H15: =SUM(H13:H14) -> 234130.58 | J15: =SUM(J13:J14) -> 64681.139
B16: Less: Beginning Inventory | D16: =D13*-'Basic Information'!$D$42 -> -1155.5556 | E16: =-D14 -> -1213.3333 | F16: =-E14 -> -1274 | G16: =-F14 -> -1528.8 | H16: =D16 -> -1155.5556 | J16: =-H14 -> -1404.585
C17: Required Cookie Production | D17: =+D15+D16 -> 52057.778 | E17: =+E15+E16 -> 54660.667 | F17: =+F15+F16 -> 57584.8 | G17: =+G15+G16 -> 68671.785 | H17: =+H15+H16 -> 232975.03 | J17: =+J15+J16 -> 63276.554
A19: ='Sales Budget'!A15 -> Bread
B20: Budgeted Sales | D20: ='Sales Budget'!D16 -> 68000 | E20: ='Sales Budget'!E16 -> 71400 | F20: ='Sales Budget'!F16 -> 74970 | G20: ='Sales Budget'!G16 -> 89964 | H20: =SUM(D20:G20) -> 304334 | J20: ='Sales Budget'!J16 -> 82654.425 | K20: ='Sales Budget'!K16 -> 86787.146
B21: Desired Ending Inventory | D21: ='Basic Information'!$D$42*'Production Budget'!E20 -> 1586.6667 | E21: ='Basic Information'!$D$42*'Production Budget'!F20 -> 1666 | F21: ='Basic Information'!$D$42*'Production Budget'!G20 -> 1999.2 | G21: ='Basic Information'!$D$42*J20 -> 1836.765 | H21: =G21 -> 1836.765 | J21: ='Basic Information'!$D$42*'Production Budget'!K20 -> 1928.6033
C22: Total Units Needed | D22: =SUM(D20:D21) -> 69586.667 | E22: =SUM(E20:E21) -> 73066 | F22: =SUM(F20:F21) -> 76969.2 | G22: =SUM(G20:G21) -> 91800.765 | H22: =SUM(H20:H21) -> 306170.77 | J22: =SUM(J20:J21) -> 84583.028
B23: Less: Beginning Inventory | D23: =D20*-'Basic Information'!$D$42 -> -1511.1111 | E23: =-D21 -> -1586.6667 | F23: =-E21 -> -1666 | G23: =-F21 -> -1999.2 | H23: =D23 -> -1511.1111 | J23: =-H21 -> -1836.765
C24: Required Bread Production | D24: =+D22+D23 -> 68075.556 | E24: =+E22+E23 -> 71479.333 | F24: =+F22+F23 -> 75303.2 | G24: =+G22+G23 -> 89801.565 | H24: =+H22+H23 -> 304659.65 | J24: =+J22+J23 -> 82746.263

Sheet DM Budget
A1: Table 4 - Raw Materials Budget
D3: Quarter | H3: Year | J3: Year 3
D4: Q1 | E4: Q2 | F4: Q3 | G4: Q4 | H4: 2 | J4: Q1
A5: Required Production
B6: ='Production Budget'!A5 -> Muffins | D6: ='Production Budget'!D10 -> 36040 | E6: ='Production Budget'!E10 -> 37842 | F6: ='Production Budget'!F10 -> 39866.4 | G6: ='Production Budget'!G10 -> 47542.005 | H6: ='Production Budget'!H10 -> 161290.4 | J6: ='Production Budget'!J10 -> 43806.845
B7: ='Production Budget'!A12 -> Cookies | D7: ='Production Budget'!D17 -> 52057.778 | E7: ='Production Budget'!E17 -> 54660.667 | F7: ='Production Budget'!F17 -> 57584.8 | G7: ='Production Budget'!G17 -> 68671.785 | H7: ='Production Budget'!H17 -> 232975.03 | J7: ='Production Budget'!J17 -> 63276.554
B8: ='Production Budget'!A19 -> Bread | D8: ='Production Budget'!D24 -> 68075.556 | E8: ='Production Budget'!E24 -> 71479.333 | F8: ='Production Budget'!F24 -> 75303.2 | G8: ='Production Budget'!G24 -> 89801.565 | H8: ='Production Budget'!H24 -> 304659.65 | J8: ='Production Budget'!J24 -> 82746.263
A10: Raw Materials Needed
B11: =B6 -> Muffins
C12: ='Basic Information'!B50 -> Flour | D12: =D$6*'Basic Information'!$C50 -> 18020 | E12: =E$6*'Basic Information'!$C50 -> 18921 | F12: =F$6*'Basic Information'!$C50 -> 19933.2 | G12: =G$6*'Basic Information'!$C50 -> 23771.002 | H12: =SUM(D12:G12) -> 80645.202 | J12: =J$6*'Basic Information'!$C50 -> 21903.423
C13: ='Basic Information'!B51 -> Margarine | D13: =D$6*'Basic Information'!$C51 -> 9010 | E13: =E$6*'Basic Information'!$C51 -> 9460.5 | F13: =F$6*'Basic Information'!$C51 -> 9966.6 | G13: =G$6*'Basic Information'!$C51 -> 11885.501 | H13: =SUM(D13:G13) -> 40322.601 | J13: =J$6*'Basic Information'!$C51 -> 10951.711
C14: ='Basic Information'!B52 -> Sugar | D14: =D$6*'Basic Information'!$C52 -> 18020 | E14: =E$6*'Basic Information'!$C52 -> 18921 | F14: =F$6*'Basic Information'!$C52 -> 19933.2 | G14: =G$6*'Basic Information'!$C52 -> 23771.002 | H14: =SUM(D14:G14) -> 80645.202 | J14: =J$6*'Basic Information'!$C52 -> 21903.423
C15: ='Basic Information'!B53 -> Eggs | D15: =D$6*'Basic Information'!$C53 -> 72080 | E15: =E$6*'Basic Information'!$C53 -> 75684 | F15: =F$6*'Basic Information'!$C53 -> 79732.8 | G15: =G$6*'Basic Information'!$C53 -> 95084.01 | H15: =SUM(D15:G15) -> 322580.81 | J15: =J$6*'Basic Information'!$C53 -> 87613.69
C16: ='Basic Information'!B54 -> Milk | D16: =D$6*'Basic Information'!$C54 -> 3604 | E16: =E$6*'Basic Information'!$C54 -> 3784.2 | F16: =F$6*'Basic Information'!$C54 -> 3986.64 | G16: =G$6*'Basic Information'!$C54 -> 4754.2005 | H16: =SUM(D16:G16) -> 16129.04 | J16: =J$6*'Basic Information'!$C54 -> 4380.6845
C17: ='Basic Information'!B55 -> Mini Chips | D17: =D$6*'Basic Information'!$C55 -> 36040 | E17: =E$6*'Basic Information'!$C55 -> 37842 | F17: =F$6*'Basic Information'!$C55 -> 39866.4 | G17: =G$6*'Basic Information'!$C55 -> 47542.005 | H17: =SUM(D17:G17) -> 161290.4 | J17: =J$6*'Basic Information'!$C55 -> 43806.845
C18: ='Basic Information'!B56 -> Baking Packet | D18: =D$6*'Basic Information'!$C56 -> 36040 | E18: =E$6*'Basic Information'!$C56 -> 37842 | F18: =F$6*'Basic Information'!$C56 -> 39866.4 | G18: =G$6*'Basic Information'!$C56 -> 47542.005 | H18: =SUM(D18:G18) -> 161290.4 | J18: =J$6*'Basic Information'!$C56 -> 43806.845
B19: =B7 -> Cookies
C20: ='Basic Information'!B60 -> Flour | D20: =D$7*'Basic Information'!$C60 -> 26028.889 | E20: =E$7*'Basic Information'!$C60 -> 27330.333 | F20: =F$7*'Basic Information'!$C60 -> 28792.4 | G20: =G$7*'Basic Information'!$C60 -> 34335.893 | H20: =SUM(D20:G20) -> 116487.51 | J20: =J$7*'Basic Information'!$C60 -> 31638.277
C21: ='Basic Information'!B61 -> Margarine | D21: =D$7*'Basic Information'!$C61 -> 39043.333 | E21: =E$7*'Basic Information'!$C61 -> 40995.5 | F21: =F$7*'Basic Information'!$C61 -> 43188.6 | G21: =G$7*'Basic Information'!$C61 -> 51503.839 | H21: =SUM(D21:G21) -> 174731.27 | J21: =J$7*'Basic Information'!$C61 -> 47457.416
C22: ='Basic Information'!B62 -> Sugar | D22: =D$7*'Basic Information'!$C62 -> 52057.778 | E22: =E$7*'Basic Information'!$C62 -> 54660.667 | F22: =F$7*'Basic Information'!$C62 -> 57584.8 | G22: =G$7*'Basic Information'!$C62 -> 68671.785 | H22: =SUM(D22:G22) -> 232975.03 | J22: =J$7*'Basic Information'!$C62 -> 63276.554
C23: ='Basic Information'!B63 -> Eggs | D23: =D$7*'Basic Information'!$C63 -> 104115.56 | E23: =E$7*'Basic Information'!$C63 -> 109321.33 | F23: =F$7*'Basic Information'!$C63 -> 115169.6 | G23: =G$7*'Basic Information'!$C63 -> 137343.57 | H23: =SUM(D23:G23) -> 465950.06 | J23: =J$7*'Basic Information'!$C63 -> 126553.11
C24: ='Basic Information'!B64 -> Cocoa | D24: =D$7*'Basic Information'!$C64 -> 13014.444 | E24: =E$7*'Basic Information'!$C64 -> 13665.167 | F24: =F$7*'Basic Information'!$C64 -> 14396.2 | G24: =G$7*'Basic Information'!$C64 -> 17167.946 | H24: =SUM(D24:G24) -> 58243.757 | J24: =J$7*'Basic Information'!$C64 -> 15819.139
C25: ='Basic Information'!B65 -> PB chips | D25: =D$7*'Basic Information'!$C65 -> 52057.778 | E25: =E$7*'Basic Information'!$C65 -> 54660.667 | F25: =F$7*'Basic Information'!$C65 -> 57584.8 | G25: =G$7*'Basic Information'!$C65 -> 68671.785 | H25: =SUM(D25:G25) -> 232975.03 | J25: =J$7*'Basic Information'!$C65 -> 63276.554
C26: ='Basic Information'!B66 -> Baking Packet | D26: =D$7*'Basic Information'!$C66 -> 52057.778 | E26: =E$7*'Basic Information'!$C66 -> 54660.667 | F26: =F$7*'Basic Information'!$C66 -> 57584.8 | G26: =G$7*'Basic Information'!$C66 -> 68671.785 | H26: =SUM(D26:G26) -> 232975.03 | J26: =J$7*'Basic Information'!$C66 -> 63276.554
B27: =B8 -> Bread
C28: ='Basic Information'!B71 -> Flour | D28: =D$8*'Basic Information'!$C71 -> 204226.67 | E28: =E$8*'Basic Information'!$C71 -> 214438 | F28: =F$8*'Basic Information'!$C71 -> 225909.6 | G28: =G$8*'Basic Information'!$C71 -> 269404.7 | H28: =SUM(D28:G28) -> 913978.96 | J28: =J$8*'Basic Information'!$C71 -> 248238.79
C29: ='Basic Information'!B72 -> Sugar | D29: =D$8*'Basic Information'!$C72 -> 17018.889 | E29: =E$8*'Basic Information'!$C72 -> 17869.833 | F29: =F$8*'Basic Information'!$C72 -> 18825.8 | G29: =G$8*'Basic Information'!$C72 -> 22450.391 | H29: =SUM(D29:G29) -> 76164.913 | J29: =J$8*'Basic Information'!$C72 -> 20686.566
C30: ='Basic Information'!B73 -> Milk | D30: =D$8*'Basic Information'!$C73 -> 17018.889 | E30: =E$8*'Basic Information'!$C73 -> 17869.833 | F30: =F$8*'Basic Information'!$C73 -> 18825.8 | G30: =G$8*'Basic Information'!$C73 -> 22450.391 | H30: =SUM(D30:G30) -> 76164.913 | J30: =J$8*'Basic Information'!$C73 -> 20686.566
C31: ='Basic Information'!B74 -> Shortening | D31: =D$8*'Basic Information'!$C74 -> 17018.889 | E31: =E$8*'Basic Information'!$C74 -> 17869.833 | F31: =F$8*'Basic Information'!$C74 -> 18825.8 | G31: =G$8*'Basic Information'!$C74 -> 22450.391 | H31: =SUM(D31:G31) -> 76164.913 | J31: =J$8*'Basic Information'!$C74 -> 20686.566
C32: ='Basic Information'!B75 -> Baking Packet | D32: =D$8*'Basic Information'!$C75 -> 68075.556 | E32: =E$8*'Basic Information'!$C75 -> 71479.333 | F32: =F$8*'Basic Information'!$C75 -> 75303.2 | G32: =G$8*'Basic Information'!$C75 -> 89801.565 | H32: =SUM(D32:G32) -> 304659.65 | J32: =J$8*'Basic Information'!$C75 -> 82746.263
B33: Totals
C34: =C12 -> Flour | D34: =D12+D20+D28 -> 248275.56 | E34: =E12+E20+E28 -> 260689.33 | F34: =F12+F20+F28 -> 274635.2 | G34: =G12+G20+G28 -> 327511.59 | H34: =SUM(D34:G34) -> 1111111.7 | J34: =J12+J20+J28 -> 301780.49
C35: =C13 -> Margarine | D35: =D13+D21 -> 48053.333 | E35: =E13+E21 -> 50456 | F35: =F13+F21 -> 53155.2 | G35: =G13+G21 -> 63389.34 | H35: =SUM(D35:G35) -> 215053.87 | J35: =J13+J21 -> 58409.127
C36: =C14 -> Sugar | D36: =+D14+D22+D29 -> 87096.667 | E36: =+E14+E22+E29 -> 91451.5 | F36: =+F14+F22+F29 -> 96343.8 | G36: =+G14+G22+G29 -> 114893.18 | H36: =SUM(D36:G36) -> 389785.15 | J36: =+J14+J22+J29 -> 105866.54
C37: =C15 -> Eggs | D37: =D15+D23 -> 176195.56 | E37: =E15+E23 -> 185005.33 | F37: =F15+F23 -> 194902.4 | G37: =G15+G23 -> 232427.58 | H37: =SUM(D37:G37) -> 788530.87 | J37: =J15+J23 -> 214166.8
C38: =C16 -> Milk | D38: =D16+D30 -> 20622.889 | E38: =E16+E30 -> 21654.033 | F38: =F16+F30 -> 22812.44 | G38: =G16+G30 -> 27204.592 | H38: =SUM(D38:G38) -> 92293.954 | J38: =J16+J30 -> 25067.25
C39: =C17 -> Mini Chips | D39: =D17 -> 36040 | E39: =E17 -> 37842 | F39: =F17 -> 39866.4 | G39: =G17 -> 47542.005 | H39: =SUM(D39:G39) -> 161290.4 | J39: =J17 -> 43806.845
C40: =C18 -> Baking Packet | D40: =D18+D26+D32 -> 156173.33 | E40: =E18+E26+E32 -> 163982 | F40: =F18+F26+F32 -> 172754.4 | G40: =G18+G26+G32 -> 206015.36 | H40: =SUM(D40:G40) -> 698925.09 | J40: =J18+J26+J32 -> 189829.66
C41: =C24 -> Cocoa | D41: =+D24 -> 13014.444 | E41: =+E24 -> 13665.167 | F41: =+F24 -> 14396.2 | G41: =+G24 -> 17167.946 | H41: =SUM(D41:G41) -> 58243.757 | J41: =+J24 -> 15819.139
C42: =C25 -> PB chips | D42: =+D25 -> 52057.778 | E42: =+E25 -> 54660.667 | F42: =+F25 -> 57584.8 | G42: =+G25 -> 68671.785 | H42: =SUM(D42:G42) -> 232975.03 | J42: =+J25 -> 63276.554
...

Sheet Income Statement
C2: Buns Bakery
C3: Balance Sheetr 1
C4: As of December 31, Year 1
C5: sales | G5: ='Sales Budget'!H20 -> 3938440
C6: cost of sales | G6: ='DM Budget'!H116 -> 951041.17
C7: Gross Profit | G7: =G5-G6 -> 2987398.8
C9: Selling and adminstrative expences
C10: Advertiing | D10: 4 | E10: 40000 | F10: =E10*$D$10 -> 160000
C11: Cleaning Supplies | E11: 1000 | F11: =E11*$D$10 -> 4000
C12: Janitorial Service | E12: 6000 | F12: =E12*$D$10 -> 24000
C13: Office staff Salaries | E13: 25000 | F13: =E13*$D$10 -> 100000
C14: Office supplies | E14: 3000 | F14: =E14*$D$10 -> 12000
C15: Rent- office | E15: 9000 | F15: =E15*$D$10 -> 36000
C16: Sales Salaries | E16: 35000 | F16: =E16*$D$10 -> 140000
C17: Top management salaries | E17: 80000 | F17: =E17*$D$10 -> 320000
C18: Utilities - office | E18: 1800 | F18: =E18*$D$10 -> 7200
C19: Mortgage intrest | F19: 80000
C20: Total Selling and adminstrative expences | G20: =F10+F11+F12+F13+F14+F15+F16+F17+F18+F19 -> 883200
C22: Total fixed over heads | G22: 640000
C24: Profit before tax | G24: =G7-G20-G22 -> 1464198.8
C25: Income tax | G25: =G24*30/100 -> 439259.65
C26: Profit after tax | G26: =G24-G25 -> 1024939.2

Sheet Balance sheet
C1: Buns Bakery
C2: Balance Sheetr 1
C3: As of December 31, Year 1
C4: Assets
C5: Current Assets
C6: Cash | E6: 40000
C7: Account Receivable | E7: 935037.21
C8: Raw Materials Inventory | E8: 38467.89
C9: Finished Goods Inventory | E9: 78853.08
C10: Total Current Assets | E10: =SUM(E6:E9) -> 1092358.2
C12: Property ,Plant and Equipment
C13: Land | E13: 75000
C14: Bilding | E14: 585000
C15: Equipment | E15: 1010000
C16: Accumulated Depr-Equipment | E16: -80800
C17: Total PPE | E17: =E13+E14+E15+E16 -> 1589200
C18: Total Asset | E18: =E17+E10 -> 2681558.2
C20: Liabilities and Stock Holders Equity
C21: Liabilities
C22: Acounts Payable | E22: 0
C23: Mortgage Payable | E23: 1106619
C24: Total Liabilities | E24: =SUM(E22:E23) -> 1106619
C26: Stockholders Equity
C28: Common Stock | E28: 550000
C29: Retained Earnings | E29: ='Income Statement'!G26 -> 1024939.2
C30: Total Stockholders Equity | E30: =SUM(E26:E29) -> 1574939.2
C32: Total Liabilities and Stockholder Equity | E32: =E30+E24 -> 2681558.2

Sheet Discussions
B2: Increasing the prices reduces the production by 20% but improves the business profitability. The total income retained in the business moved-up wards from $898,337 to $1,024,963. Increased profitability for any business is a welcomed idea hence Buns bakery to increase the product prices upwards, that is Muffins from $5.50 to $6,cookies from $4.75 to $5.25 and that of bread from S5.25 to $5.75. The Venture Capital Firm who are interested in investing in the Bun bakery business can go ahead and buy the shares of the organization as the statements indicates and shows that the business is profitable. The system of budgeting should be inculcated in the Bun’s bakery as it helps in planning and making financial decisions in the business.
